BEGIN:VCALENDAR
VERSION:2.0
PRODID:-//Nutzhanf-Netzwerk e.V. - ECPv6.15.20//NONSGML v1.0//EN
CALSCALE:GREGORIAN
METHOD:PUBLISH
X-ORIGINAL-URL:https://nutzhanfnetzwerk.de
X-WR-CALDESC:Veranstaltungen für Nutzhanf-Netzwerk e.V.
REFRESH-INTERVAL;VALUE=DURATION:PT1H
X-Robots-Tag:noindex
X-PUBLISHED-TTL:PT1H
BEGIN:VTIMEZONE
TZID:Europe/Paris
BEGIN:DAYLIGHT
TZOFFSETFROM:+0100
TZOFFSETTO:+0200
TZNAME:CEST
DTSTART:20240331T010000
END:DAYLIGHT
BEGIN:STANDARD
TZOFFSETFROM:+0200
TZOFFSETTO:+0100
TZNAME:CET
DTSTART:20241027T010000
END:STANDARD
BEGIN:DAYLIGHT
TZOFFSETFROM:+0100
TZOFFSETTO:+0200
TZNAME:CEST
DTSTART:20250330T010000
END:DAYLIGHT
BEGIN:STANDARD
TZOFFSETFROM:+0200
TZOFFSETTO:+0100
TZNAME:CET
DTSTART:20251026T010000
END:STANDARD
BEGIN:DAYLIGHT
TZOFFSETFROM:+0100
TZOFFSETTO:+0200
TZNAME:CEST
DTSTART:20260329T010000
END:DAYLIGHT
BEGIN:STANDARD
TZOFFSETFROM:+0200
TZOFFSETTO:+0100
TZNAME:CET
DTSTART:20261025T010000
END:STANDARD
END:VTIMEZONE
BEGIN:VEVENT
DTSTART;VALUE=DATE:20250813
DTEND;VALUE=DATE:20250814
DTSTAMP:20260425T053442
CREATED:20250716T150152Z
LAST-MODIFIED:20250716T150152Z
UID:1051-1755043200-1755129599@nutzhanfnetzwerk.de
SUMMARY:Praktische Einblicke – Faserhanfernte 2025
DESCRIPTION:Die Veranstaltung findet parallel bei FUSE GmbH in 04442 Zwenkau\, OT Mausitz statt.
URL:https://nutzhanfnetzwerk.de/veranstaltung/praktische-einblicke-faserhanfernte-2025/
LOCATION:Farmhus materials GmbH\, OT Littdorf\, 04741 Roßwein
END:VEVENT
BEGIN:VEVENT
DTSTART;TZID=Europe/Paris:20250813T130000
DTEND;TZID=Europe/Paris:20250813T163000
DTSTAMP:20260425T053442
CREATED:20250717T101206Z
LAST-MODIFIED:20250721T122536Z
UID:1069-1755090000-1755102600@nutzhanfnetzwerk.de
SUMMARY:Netzwerk-Workshop: Ökologisches Bauen – Gemeinsam zum klimafreundlichen Bauen in Sachsen-Anhalt
DESCRIPTION:Worum geht’s?\nWie bringen wir klimagerechtes Bauen in die Praxis? Der Workshop diskutiert regionale Wertschöpfung\, moderne Holzbauweisen und innovative Baustoffe wie Hanf und Lehm. \nWer ist dabei?\nDie Nachwuchsgruppe Bio-Rohstoffe – Hanf. Feld. Forschung. mit Dr. Susanne Bartholomé zum Thema Industriehanf als Baustoff. \nWarum teilnehmen?\nAustausch mit ExpertInnen aus Praxis\, Politik und Wissenschaft\nImpulse zu Holzbau\, Hanf\, Lehm und Naturbaustoffen\nVernetzung für den Bauwandel in Sachsen-Anhalt \nAnmeldung bis 1.8.2025 hier möglich.
URL:https://nutzhanfnetzwerk.de/veranstaltung/netzwerk-workshop-oekologisches-bauen-gemeinsam-zum-klimafreundlichen-bauen-in-sachsen-anhalt/
LOCATION:Landesbetrieb für Hochwasserschutz und Wasserwirtschaft Sachsen-Anhalt\, Otto-von-Guericke-Straße 5\, 39104 Magdeburg
END:VEVENT
BEGIN:VEVENT
DTSTART;TZID=Europe/Paris:20250816T100000
DTEND;TZID=Europe/Paris:20250816T170000
DTSTAMP:20260425T053442
CREATED:20250811T115849Z
LAST-MODIFIED:20250811T115849Z
UID:1119-1755338400-1755363600@nutzhanfnetzwerk.de
SUMMARY:PRAXIS-WORKSHOP | Innendämmung mit Hanfkalk
DESCRIPTION:Praxis-Workshop zur ökologischen Innendämmung mit Hanfsteinen von Isohemp:Teilnehmende lernen auf einer echten Baustelle Schritt für Schritt die Verarbeitung – von der Vorbereitung bis zum Einbau – und erhalten Fachwissen zu bauphysikalischen Vorteilen wie Wärmespeicherfähigkeit\, gesundem Raumklima und Diffusionsoffenheit.Für alle\, die nachhaltig und wohngesund sanieren wollen. \nAnmeldung hier möglich.
URL:https://nutzhanfnetzwerk.de/veranstaltung/praxis-workshop-innendaemmung-mit-hanfkalk/
LOCATION:Bahnhofstr. 26\, 72417 Jungingen
END:VEVENT
BEGIN:VEVENT
DTSTART;TZID=Europe/Paris:20250828T110000
DTEND;TZID=Europe/Paris:20250828T163000
DTSTAMP:20260425T053442
CREATED:20251016T074415Z
LAST-MODIFIED:20251016T074415Z
UID:1167-1756378800-1756398600@nutzhanfnetzwerk.de
SUMMARY:ProtoPotsdam am Potsdamer Umweltfest
DESCRIPTION:Im Rahmen des grünen Aktionstages im Volkspark Potsdam präsentiert Bauhaus Erde den Forschungspavillon ProtoPotsdam und lädt alle ein\, vorbeizukommen und mit uns über biobasierte und regionale Materialien zu sprechen.
URL:https://nutzhanfnetzwerk.de/veranstaltung/protopotsdam-am-potsdamer-umweltfest/
END:VEVENT
END:VCALENDAR