BEGIN:VCALENDAR
VERSION:2.0
PRODID:-//Nutzhanf-Netzwerk e.V. - ECPv6.15.20//NONSGML v1.0//EN
CALSCALE:GREGORIAN
METHOD:PUBLISH
X-WR-CALNAME:Nutzhanf-Netzwerk e.V.
X-ORIGINAL-URL:https://nutzhanfnetzwerk.de
X-WR-CALDESC:Veranstaltungen für Nutzhanf-Netzwerk e.V.
REFRESH-INTERVAL;VALUE=DURATION:PT1H
X-Robots-Tag:noindex
X-PUBLISHED-TTL:PT1H
BEGIN:VTIMEZONE
TZID:Europe/Paris
BEGIN:DAYLIGHT
TZOFFSETFROM:+0100
TZOFFSETTO:+0200
TZNAME:CEST
DTSTART:20240331T010000
END:DAYLIGHT
BEGIN:STANDARD
TZOFFSETFROM:+0200
TZOFFSETTO:+0100
TZNAME:CET
DTSTART:20241027T010000
END:STANDARD
BEGIN:DAYLIGHT
TZOFFSETFROM:+0100
TZOFFSETTO:+0200
TZNAME:CEST
DTSTART:20250330T010000
END:DAYLIGHT
BEGIN:STANDARD
TZOFFSETFROM:+0200
TZOFFSETTO:+0100
TZNAME:CET
DTSTART:20251026T010000
END:STANDARD
BEGIN:DAYLIGHT
TZOFFSETFROM:+0100
TZOFFSETTO:+0200
TZNAME:CEST
DTSTART:20260329T010000
END:DAYLIGHT
BEGIN:STANDARD
TZOFFSETFROM:+0200
TZOFFSETTO:+0100
TZNAME:CET
DTSTART:20261025T010000
END:STANDARD
END:VTIMEZONE
BEGIN:VEVENT
DTSTART;TZID=Europe/Paris:20251002T130000
DTEND;TZID=Europe/Paris:20251002T180000
DTSTAMP:20260425T020420
CREATED:20251016T074709Z
LAST-MODIFIED:20251016T074725Z
UID:1169-1759410000-1759428000@nutzhanfnetzwerk.de
SUMMARY:ProtoDIY: Die gesunde Wand im Raum - Bauen mit Hanf und hanfbasierte Baustoffe
DESCRIPTION:Workshop mit Caspar Schmid (Naturbauhof Potsdam) \nDie Familie wächst – aber die Wohnung nicht? In diesem Workshop erfahren Sie\, wie Sie Räume erweitern und unterteilen können\, ohne umzuziehen – mit einem Baustoff\, der nicht nur praktisch\, sondern auch gesund und klimapositiv ist. Der Naturbaustoff eignet sich ideal für schadstofffreien Trockenbau. Hanfsteine können als Dämmung\, Ausfachung oder als nicht tragende Wände eingesetzt werden. Baustoff Hanf sorgt für ein ausgeglichenes Raumklima\, reguliert die Feuchtigkeit und reduziert Staubbelastung. Im Workshop erfahren Sie mehr zum Low-tech-Bauen und den Materialeigenschaften sowie zu möglichen Einsatzbereichen von hanfbasierten Baustoffen.\n.\n12:30-13:45\nInput und Austausch mit 1:1 Wandaufbauten\n14:00-15:00\nWorkshop 1: Keine trockene Theorie\, sondern staubfreie Praxis! Wir bauen gemeinsam kleine Trockenbau-Elemente\n15:15-15:45\nFragerunde und Diskussion\n16:00-17:00\nWorkshop 2: Keine trockene Theorie\, sondern staubfreie Praxis! Wir bauen gemeinsam kleine Trockenbau-Elemente\n17:00-18:00\nGet together & Ausklang\n.\nAnmeldung protopotsdam@bauhauserde.org \n 
URL:https://nutzhanfnetzwerk.de/veranstaltung/protodiy-die-gesunde-wand-im-raum-bauen-mit-hanf-und-hanfbasierte-baustoffe/
END:VEVENT
BEGIN:VEVENT
DTSTART;TZID=Europe/Paris:20251007T180000
DTEND;TZID=Europe/Paris:20251007T200000
DTSTAMP:20260425T020420
CREATED:20251016T074917Z
LAST-MODIFIED:20251016T075639Z
UID:1171-1759860000-1759867200@nutzhanfnetzwerk.de
SUMMARY:Fachgespräch 02: Gräser für die Bauwende – Stroh und Hanf in der Baupraxis
DESCRIPTION:Die Veranstaltung wird von der Brandenburgischen Architektenkammer mit 2 UE\, Fortbildungsrubrik “Baupraxis” anerkannt. Anmeldung unter protopotsdam@bauhauserde.org\n.\nWelche Potenziale und Herausforderungen bringen regionale Baustoffe wie Stroh und Hanf mit sich\, insbesondere in Berlin und Brandenburg? Wie lassen sie sich im Neu- und Umbau erfolgreich einsetzen? In diesem Fachgespräch konzentrieren sich die Impulsbeiträge und die anschließende Diskussion auf den Einsatz von biobasierten Baustoffen und die regionalen Praxismodelle.\nKonzipiert von Anna Kostreva (Plural Studio) und Dr. Elena Markus. Mit: Caspar Schmid (Naturbauhof Potsdam)\, Otto Rogge (arcana Baugesellschaft) und Alessandro Tonnarelli (Strohtektur)\n.\nDas Fachgespräch wird für die Podcastreihe “Call to Action!” aufgezeichnet\, als Fortsetzung der Reihe “Regenerative Architektur” aus dem vergangenen Jahr.\n.\nThis event is part of the New European Bauhaus Academy. The New European Bauhaus Academy’s mission is to train\, upskill\, and reskill the construction ecosystem for a carbon-neutral\, inclusive\, and regenerative built environment. It promotes lifelong learning through education and training so workers\, students\, and professionals can continuously adapt their skills to the needs of a sustainable built environment.
URL:https://nutzhanfnetzwerk.de/veranstaltung/fachgespraech-02-graeser-fuer-die-bauwende-stroh-und-hanf-in-der-baupraxis/
END:VEVENT
BEGIN:VEVENT
DTSTART;VALUE=DATE:20251008
DTEND;VALUE=DATE:20251010
DTSTAMP:20260425T020420
CREATED:20250802T110637Z
LAST-MODIFIED:20250802T110637Z
UID:1113-1759881600-1760054399@nutzhanfnetzwerk.de
SUMMARY:13th International Hemp Building Symposium
DESCRIPTION:Worum geht’s?\nDas International Hemp Building Symposium ist weltweit eine der wichtigsten Fachveranstaltungen für innovatives Bauen mit Hanf. ExpertInnen aus über 20 Ländern tauschen sich zu Forschung\, Praxis und Perspektiven einer kreislauffähigen Bauwirtschaft aus.\nNHN ist vertreten:\nFelix Drewes (Vizepräsident\, Nutzhanf-Netzwerk e.V.) und Dr. Susanne Bartholomé (Vorstand\, Hanffaser Geiseltal eG) halten den Vortrag:\nRegional Innovation: Processing Winter Hemp and Post-Coal Transition\nWie dezentrale Verarbeitung von Winterhanf neue Wertschöpfung in Kohleregionen schafft – mit kurzen Lieferketten\, CO₂-negativen Baustoffen und Perspektiven für regionale Transformation\, am Beispiel der Lausitz.\nWarum teilnehmen?\n• Internationale Fachimpulse zu Hanfbaustoffen\n• Austausch mit PionierInnen aus Forschung\, Planung und Industrie\n• Einblick in Best-Practice-Projekte weltweit \nWeitere Infos & Anmeldung hier.
URL:https://nutzhanfnetzwerk.de/veranstaltung/13th-international-hemp-building-symposium/
LOCATION:Lower Sioux Indian Community\, Morton\, United States
END:VEVENT
BEGIN:VEVENT
DTSTART;TZID=Europe/Paris:20251009T180000
DTEND;TZID=Europe/Paris:20251009T200000
DTSTAMP:20260425T020420
CREATED:20251015T081326Z
LAST-MODIFIED:20251015T081617Z
UID:1164-1760032800-1760040000@nutzhanfnetzwerk.de
SUMMARY:Nutzhanf als Kulturpflanze der Zukunft - Vom Anbau über Ernte bis Nutzung des Strohs im Bausektor
DESCRIPTION:Nutzhanf ist eine vielseitige Kulturpflanze: Ob als Lebensmittel\, für Textilien oder als nachhaltiger Baustoff – die Nachfrage wächst. Doch welche Faktoren entscheiden über einen erfolgreichen Anbau\, wie wird Nutzhanf geerntet und wie kann Hanf als nachhaltiger Baustoff verwendet werden?\nAntworten gab das BZL-Web-Seminar am 9. Oktober 2025. \nDr. Michael Dickeduisberg\, Leiter des Sachbereichs Acker- und Pflanzenbau sowie des Zentrums für nachwachsende Rohstoffe der Landwirtschaftskammer Nordrhein-Westfalen hat vorgestellt\, was im Anbau von Nutzhanf zu beachten ist und welche vielfältigen Verwertungsmöglichkeiten es für die Pflanze gibt.\nAuf die Besonderheiten bei der Ernte ging Jung-Landwirt und Lohnunternehmer Christoph Röling-Müller aus der Lüneburger Heide ein. Er berichtete von seinen Erfahrungen und welche Besonderheiten es beim Maschineneinsatz gibt. \nAnschließend hat Felix Drewes vom Nutzhanf-Netzwerk e.V. präsentiert\, wie Hanfbaustoffe in der Praxis eingesetzt werden. Dabei hat der die vielfältigen Einsatzmöglichkeiten vorgestellt und hat gezeigt welches Potenzial Hanf als Baustoff für eine wohngesunde\, ressourcenschonende Architektur hat. \nWeitere Informationen zur Kulturpflanze Nutzhanf finden Sie in unserem Online-Artikel Anbau\, Ernte und Vermarktung von Nutzhanf.
URL:https://nutzhanfnetzwerk.de/veranstaltung/nutzhanf-als-kulturpflanze-der-zukunft-vom-anbau-ueber-ernte-bis-nutzung-des-strohs-im-bausektor/
END:VEVENT
END:VCALENDAR